BEGIN:VCALENDAR
VERSION:2.0
PRODID:-//Science in Vancouver - ECPv6.15.20//NONSGML v1.0//EN
CALSCALE:GREGORIAN
METHOD:PUBLISH
X-ORIGINAL-URL:https://scienceinvancouver.com
X-WR-CALDESC:Events for Science in Vancouver
REFRESH-INTERVAL;VALUE=DURATION:PT1H
X-Robots-Tag:noindex
X-PUBLISHED-TTL:PT1H
BEGIN:VTIMEZONE
TZID:America/Vancouver
BEGIN:DAYLIGHT
TZOFFSETFROM:-0800
TZOFFSETTO:-0700
TZNAME:PDT
DTSTART:20240310T100000
END:DAYLIGHT
BEGIN:STANDARD
TZOFFSETFROM:-0700
TZOFFSETTO:-0800
TZNAME:PST
DTSTART:20241103T090000
END:STANDARD
BEGIN:DAYLIGHT
TZOFFSETFROM:-0800
TZOFFSETTO:-0700
TZNAME:PDT
DTSTART:20250309T100000
END:DAYLIGHT
BEGIN:STANDARD
TZOFFSETFROM:-0700
TZOFFSETTO:-0800
TZNAME:PST
DTSTART:20251102T090000
END:STANDARD
BEGIN:DAYLIGHT
TZOFFSETFROM:-0800
TZOFFSETTO:-0700
TZNAME:PDT
DTSTART:20260308T100000
END:DAYLIGHT
BEGIN:STANDARD
TZOFFSETFROM:-0700
TZOFFSETTO:-0800
TZNAME:PST
DTSTART:20261101T090000
END:STANDARD
END:VTIMEZONE
BEGIN:VEVENT
DTSTART;TZID=America/Vancouver:20250407T120000
DTEND;TZID=America/Vancouver:20250407T150000
DTSTAMP:20260419T200120
CREATED:20250311T215358Z
LAST-MODIFIED:20250311T215358Z
UID:40213-1744027200-1744038000@scienceinvancouver.com
SUMMARY:SBME Official Opening – Public Open House
DESCRIPTION:We are thrilled to welcome you to our purpose designed new building\, which serves as the heart of BC’s thriving life sciences ecosystem\, generating the ground-breaking research\, next-generation talent\, and innovative spin-offs and ideas that will fuel the life sciences sector growth. Join us for interactive displays\, tours and to learn more about how SBME is revolutionizing the future of healthcare through new treatments and technologies. All are welcome.
URL:https://scienceinvancouver.com/event/sbme-official-opening-public-open-house/
LOCATION:School of Biomedical Engineering\, 6088 University Blvd\, Vancouver\, BC\, V6T 1Z8\, Canada
ATTACH;FMTTYPE=image/jpeg:https://scienceinvancouver.com/wp-content/uploads/sites/1/2025/03/SBME-Exterior-scaled-1.jpg
END:VEVENT
BEGIN:VEVENT
DTSTART;TZID=America/Vancouver:20250407T190000
DTEND;TZID=America/Vancouver:20250407T200000
DTSTAMP:20260419T200120
CREATED:20250318T225356Z
LAST-MODIFIED:20250318T225356Z
UID:40306-1744052400-1744056000@scienceinvancouver.com
SUMMARY:Post-PhD Connect
DESCRIPTION:An informal meetup for those of us who have done a PhD and got the T-shirt 🎓✅\nWhether you are in academia\, in industry\, or in between\, join us to chat about navigating professional life after grad school 🧭\nCome as you are\, bring your thoughts and questions\, and make authentic connections with fellow PhDs 🖇️ \nRegister to attend!
URL:https://scienceinvancouver.com/event/post-phd-connect-2/
LOCATION:Central Library\, 350 W Georgia Street\, Vancouver\, BC\, V6B 6B1\, Canada
ATTACH;FMTTYPE=image/png:https://scienceinvancouver.com/wp-content/uploads/sites/1/2025/03/1742336095059.png
END:VEVENT
END:VCALENDAR