BEGIN:VCALENDAR
VERSION:2.0
PRODID:-//Science in Vancouver - ECPv6.15.20//NONSGML v1.0//EN
CALSCALE:GREGORIAN
METHOD:PUBLISH
X-WR-CALNAME:Science in Vancouver
X-ORIGINAL-URL:https://scienceinvancouver.com
X-WR-CALDESC:Events for Science in Vancouver
REFRESH-INTERVAL;VALUE=DURATION:PT1H
X-Robots-Tag:noindex
X-PUBLISHED-TTL:PT1H
BEGIN:VTIMEZONE
TZID:America/Vancouver
BEGIN:DAYLIGHT
TZOFFSETFROM:-0800
TZOFFSETTO:-0700
TZNAME:PDT
DTSTART:20240310T100000
END:DAYLIGHT
BEGIN:STANDARD
TZOFFSETFROM:-0700
TZOFFSETTO:-0800
TZNAME:PST
DTSTART:20241103T090000
END:STANDARD
BEGIN:DAYLIGHT
TZOFFSETFROM:-0800
TZOFFSETTO:-0700
TZNAME:PDT
DTSTART:20250309T100000
END:DAYLIGHT
BEGIN:STANDARD
TZOFFSETFROM:-0700
TZOFFSETTO:-0800
TZNAME:PST
DTSTART:20251102T090000
END:STANDARD
BEGIN:DAYLIGHT
TZOFFSETFROM:-0800
TZOFFSETTO:-0700
TZNAME:PDT
DTSTART:20260308T100000
END:DAYLIGHT
BEGIN:STANDARD
TZOFFSETFROM:-0700
TZOFFSETTO:-0800
TZNAME:PST
DTSTART:20261101T090000
END:STANDARD
END:VTIMEZONE
BEGIN:VEVENT
DTSTART;TZID=America/Vancouver:20250626T180000
DTEND;TZID=America/Vancouver:20250626T220000
DTSTAMP:20260420T031912
CREATED:20250616T183239Z
LAST-MODIFIED:20250616T183239Z
UID:41675-1750960800-1750975200@scienceinvancouver.com
SUMMARY:After Dark: Lift-Off — LEGO® Bricks Edition
DESCRIPTION:Build worlds. Explore galaxies. All with LEGO® bricks.\nGo into the depths of space with fellow LEGO® lovers at the adults-only After Dark: Lift-Off with LEGO® Bricks. Be among the first to explore our brand-new feature exhibition\, Artemis Space Adventure with LEGO® Bricks\, presented by White Spot Restaurants—on opening night\, no less. \nPut your skills to the test with fast-paced LEGO® challenges hosted by Vancouver’s Community for Adult Fans of LEGO®. Launch astronaut minifigs with precision\, spot bricks like a Master Builder\, and (space) race against the clock in a speed build. Create your own MOCs (My Own Creation) with guided prompts and code a micro:bit robot to navigate space. \nPlus\, catch one of three bite-sized talks with our curator\, a NASA Solar System Ambassador\, for an insider’s look. At Lift-Off\, dive into a night of cosmic competition and hands-on LEGO® exploration — no kids\, no cleanup\, just pure play. \nWhether you’re a die-hard builder or a curious newcomer\, this is your launchpad for drinks\, discovery\, and a night that’s out-of-this-world. \nGood Stuff to Know\nTickets are Limited. Get yours before they sell out. Early Bird: $34.95 | Regular $39.95 \nDoors Open at 6pm. Make sure you have enough time for all the exciting activities! \nFood & Drink. Wine\, beer and alcoholic-free sips; burgers and a limited edition shake at Triple O’s; popcorn and snacks at the Snack Lab—all available for purchase. \nPick Up a Wristband upon entry for one of three talks. \nFirst Come First Served when you code your own micro:bit robot. \nScience Store is open. Pick up a souvenir to remember the good times! \nThe Fine Print\n19+ Only. Don’t forget your government ID—no ID\, no entry! \nAll Sales Final. Tickets can’t be resold\, refunded\, or combined with other offers. \nSecurity Checks (and potential body searches). These keep the night smooth and safe.
URL:https://scienceinvancouver.com/event/after-dark-lift-off-lego-bricks-edition/
LOCATION:Science World\, 1455 Quebec Street\, Vancouver\, BC\, V6A3Z7\, Canada
ATTACH;FMTTYPE=image/jpeg:https://scienceinvancouver.com/wp-content/uploads/sites/1/2018/11/Science-World.jpg
END:VEVENT
END:VCALENDAR