BEGIN:VCALENDAR
VERSION:2.0
PRODID:-//Science in Vancouver - ECPv6.15.20//NONSGML v1.0//EN
CALSCALE:GREGORIAN
METHOD:PUBLISH
X-ORIGINAL-URL:https://scienceinvancouver.com
X-WR-CALDESC:Events for Science in Vancouver
REFRESH-INTERVAL;VALUE=DURATION:PT1H
X-Robots-Tag:noindex
X-PUBLISHED-TTL:PT1H
BEGIN:VTIMEZONE
TZID:America/Vancouver
BEGIN:DAYLIGHT
TZOFFSETFROM:-0800
TZOFFSETTO:-0700
TZNAME:PDT
DTSTART:20240310T100000
END:DAYLIGHT
BEGIN:STANDARD
TZOFFSETFROM:-0700
TZOFFSETTO:-0800
TZNAME:PST
DTSTART:20241103T090000
END:STANDARD
BEGIN:DAYLIGHT
TZOFFSETFROM:-0800
TZOFFSETTO:-0700
TZNAME:PDT
DTSTART:20250309T100000
END:DAYLIGHT
BEGIN:STANDARD
TZOFFSETFROM:-0700
TZOFFSETTO:-0800
TZNAME:PST
DTSTART:20251102T090000
END:STANDARD
BEGIN:DAYLIGHT
TZOFFSETFROM:-0800
TZOFFSETTO:-0700
TZNAME:PDT
DTSTART:20260308T100000
END:DAYLIGHT
BEGIN:STANDARD
TZOFFSETFROM:-0700
TZOFFSETTO:-0800
TZNAME:PST
DTSTART:20261101T090000
END:STANDARD
END:VTIMEZONE
BEGIN:VEVENT
DTSTART;TZID=America/Vancouver:20250628T130000
DTEND;TZID=America/Vancouver:20250628T170000
DTSTAMP:20260422T055500
CREATED:20250507T220511Z
LAST-MODIFIED:20250507T220511Z
UID:41044-1751115600-1751130000@scienceinvancouver.com
SUMMARY:9th Global Conference on Public Health and Epidemiology
DESCRIPTION:9th Global Conference on Public Health and Epidemiology (GCPHE) –  June 28\, 2025 –  Vancouver\, Canada\nThe 9th Global Conference on Public Health and Epidemiology\, organized by the Global Conference Alliance Inc.\, continues its legacy of bringing together an international community of experts\, policymakers\, practitioners\, and researchers. This highly anticipated event stands as one of the best public health events in 2025\, offering unparalleled opportunities for collaboration and innovation. \nAs one of the biggest epidemiology events in Vancouver\, this gathering is designed to address evolving challenges in public health and epidemiology. Participants will engage with groundbreaking solutions and forward-looking strategies\, fostering advancements in areas such as the intersection of chronic and infectious diseases\, environmental health challenges\, and the transformative role of technology in global health. \nFor professionals looking to book an international epidemiology science conference\, this event promises to deliver rich discussions and networking opportunities. By joining the public health conference in Canada\, attendees will contribute to reducing health disparities and promoting equitable health solutions on a global scale. \nThis event also provides a seamless experience with a Canada conference invitation letter\, supporting participants in their travel arrangements. By attending\, you will not only redefine traditional practices but also champion innovation to build a healthier\, more inclusive global society.
URL:https://scienceinvancouver.com/event/9th-global-conference-on-public-health-and-epidemiology/
LOCATION:UBC Robson Square\, 800 Robson St\, Vancouver
ATTACH;FMTTYPE=image/jpeg:https://scienceinvancouver.com/wp-content/uploads/sites/1/2024/08/Screenshot-2024-08-01-153059-e1724362775581.jpg
END:VEVENT
END:VCALENDAR